BEGIN:VCALENDAR
VERSION:2.0
PRODID:-//USJ - University of Sri Jayewardenepura, Sri Lanka - ECPv6.15.14//NONSGML v1.0//EN
CALSCALE:GREGORIAN
METHOD:PUBLISH
X-WR-CALNAME:USJ - University of Sri Jayewardenepura, Sri Lanka
X-ORIGINAL-URL:https://www.sjp.ac.lk
X-WR-CALDESC:Events for USJ - University of Sri Jayewardenepura, Sri Lanka
REFRESH-INTERVAL;VALUE=DURATION:PT1H
X-Robots-Tag:noindex
X-PUBLISHED-TTL:PT1H
BEGIN:VTIMEZONE
TZID:America/Caracas
BEGIN:STANDARD
TZOFFSETFROM:-0400
TZOFFSETTO:-0400
TZNAME:-04
DTSTART:20210101T000000
END:STANDARD
END:VTIMEZONE
BEGIN:VEVENT
DTSTART;TZID=America/Caracas:20220429T090000
DTEND;TZID=America/Caracas:20220429T120000
DTSTAMP:20260424T201246
CREATED:20220427T072035Z
LAST-MODIFIED:20220427T072035Z
UID:57889-1651222800-1651233600@www.sjp.ac.lk
SUMMARY:Awareness Programme on Creating a "Green Faculty"
DESCRIPTION:The green hub of FMS-USJ has organized a seminar titled Awareness Programme on Creating a “Green Faculty” in collaboration with the Ministry of Environment. The seminar is on 29th April 2022(Friday) at 9.00am – 12.00 noon at New board room of University of Sri Jayewardenepura (At the top floor of the Administration building)
URL:https://www.sjp.ac.lk/event/awareness-programme-on-creating-a-green-faculty/
LOCATION:Online
END:VEVENT
END:VCALENDAR