BEGIN:VCALENDAR
VERSION:2.0
PRODID:-//USJ - University of Sri Jayewardenepura, Sri Lanka - ECPv6.15.14//NONSGML v1.0//EN
CALSCALE:GREGORIAN
METHOD:PUBLISH
X-WR-CALNAME:USJ - University of Sri Jayewardenepura, Sri Lanka
X-ORIGINAL-URL:https://www.sjp.ac.lk
X-WR-CALDESC:Events for USJ - University of Sri Jayewardenepura, Sri Lanka
REFRESH-INTERVAL;VALUE=DURATION:PT1H
X-Robots-Tag:noindex
X-PUBLISHED-TTL:PT1H
BEGIN:VTIMEZONE
TZID:America/Caracas
BEGIN:STANDARD
TZOFFSETFROM:-0400
TZOFFSETTO:-0400
TZNAME:-04
DTSTART:20230101T000000
END:STANDARD
END:VTIMEZONE
BEGIN:VEVENT
DTSTART;TZID=America/Caracas:20241108T180000
DTEND;TZID=America/Caracas:20241108T230000
DTSTAMP:20260424T161004
CREATED:20241108T050447Z
LAST-MODIFIED:20241108T050447Z
UID:67744-1731088800-1731106800@www.sjp.ac.lk
SUMMARY:J'pura Employability Skills Awards 2024
DESCRIPTION:Months of preparation and passion have led us to this moment—the final awards ceremony of JESA 2024!\nFrom applications to intense evaluations\, we’ve witnessed incredible talent and dedication.\nWith everything set for the grand finale\, it’s time to honour the brightest stars who have truly excelled and made their mark.\n📅 : November 8th\n🕒 : 6.00 PM onwards\n📍 : Golden Rose Hotel\, Boralesgamuwa\nBe there to celebrate their remarkable achievements with us! \nCareer Skills Development Society \nCareer Guidance Unit
URL:https://www.sjp.ac.lk/event/jpura-employability-skills-awards-2024/
LOCATION:Hotel Golden Rose\, Boralesgamuwa
END:VEVENT
END:VCALENDAR