BEGIN:VCALENDAR
VERSION:2.0
PRODID:-//USJ - University of Sri Jayewardenepura, Sri Lanka - ECPv6.15.14//NONSGML v1.0//EN
CALSCALE:GREGORIAN
METHOD:PUBLISH
X-WR-CALNAME:USJ - University of Sri Jayewardenepura, Sri Lanka
X-ORIGINAL-URL:https://www.sjp.ac.lk
X-WR-CALDESC:Events for USJ - University of Sri Jayewardenepura, Sri Lanka
REFRESH-INTERVAL;VALUE=DURATION:PT1H
X-Robots-Tag:noindex
X-PUBLISHED-TTL:PT1H
BEGIN:VTIMEZONE
TZID:America/Caracas
BEGIN:STANDARD
TZOFFSETFROM:-0400
TZOFFSETTO:-0400
TZNAME:-04
DTSTART:20210101T000000
END:STANDARD
END:VTIMEZONE
BEGIN:VEVENT
DTSTART;TZID=America/Caracas:20220228T073000
DTEND;TZID=America/Caracas:20220228T163000
DTSTAMP:20260419T145151
CREATED:20220227T130242Z
LAST-MODIFIED:20220228T012023Z
UID:57315-1646033400-1646065800@www.sjp.ac.lk
SUMMARY:47th Convocation – Session 8\, 9 and 10 - Medicine\, Engineering\, Technology and Faculty of Graduate Studies
DESCRIPTION:Session 8\, 9 and 10 of the 47th Convocation will be held on February 28\, 2022 at  Bandaranaike Memorial International Conference Hall\, Colombo 07 from 07.30AM to 04.30PM for the graduates of Faculty of Medical Sciences\, Faculty of Engineering\, Faculty of Technology and\, Faculty of Graduate Studies. \nSession 8 and 9 – 28 Feb 2022 7.30-1 pm Medicine Engineering Technology Graduate 47th Convocation #Live\n7.30-10.00 am – Faculty of Medicine and Faculty of Engineering\n10.30-1.00 pm – Faculty of Technology and Faculty of Graduate Studies \n\n\n\n\n			 \n	 \n\nSession 10 Faculty of Graduate Studies- 28 Feb 2022 2.00 – 4.30 pm 47th Convocation USJ #live
URL:https://www.sjp.ac.lk/event/47th-convocation-session-8-9-and-10/
LOCATION:BMICH\, Colombo 07\, Bauddhaloka Mawatha\, Colombo 07\, Sri Lanka
END:VEVENT
END:VCALENDAR