BEGIN:VCALENDAR
VERSION:2.0
PRODID:-//USJ - University of Sri Jayewardenepura, Sri Lanka - ECPv6.15.14//NONSGML v1.0//EN
CALSCALE:GREGORIAN
METHOD:PUBLISH
X-WR-CALNAME:USJ - University of Sri Jayewardenepura, Sri Lanka
X-ORIGINAL-URL:https://www.sjp.ac.lk
X-WR-CALDESC:Events for USJ - University of Sri Jayewardenepura, Sri Lanka
REFRESH-INTERVAL;VALUE=DURATION:PT1H
X-Robots-Tag:noindex
X-PUBLISHED-TTL:PT1H
BEGIN:VTIMEZONE
TZID:America/Caracas
BEGIN:STANDARD
TZOFFSETFROM:-0400
TZOFFSETTO:-0400
TZNAME:-04
DTSTART:20210101T000000
END:STANDARD
END:VTIMEZONE
BEGIN:VEVENT
DTSTART;VALUE=DATE:20220120
DTEND;VALUE=DATE:20220122
DTSTAMP:20260425T220036
CREATED:20210706T070325Z
LAST-MODIFIED:20211222T141343Z
UID:54261-1642636800-1642809599@www.sjp.ac.lk
SUMMARY:Twenty sixth International Forestry and Environmental Science Symposium 2021
DESCRIPTION:Call for papers\n  \nTheme:  Developments in Forestry and Environmental Science in 2021\nWe are pleased to announce that the 26th International Forestry and Environmental Science Symposium organized by the Department of Forestry & Environmental Science\, Faculty of Applied Sciences\, University of Sri Jayewardenepura (USJ) under the above theme will be held on 20th & 21st of January 2022 at USJ in Colombo\, Sri Lanka. \nTwenty sixth International Forestry and Environmental Science Symposium would be an ideal platform for you to stay connected with well-established research networks and to get your outstanding work visible. \nKey Dates\nDeadline for Abstract Submission: 15th September 2021 \nNotification of Acceptance (Abstract): 15th October 2021 \nCommencement of Registration of Presenters: 15th December 2021 \nSubmission of Full Papers Selected for the Journal of Tropical Forestry and Environment: 15th March 2022 \n  \nKey Sessions:\n\nForest and Natural Resource Management\nBiodiversity Conservation and Management\nWaste Management and Pollution Control\nEnvironmental Economics and Resource Management\nClimate Change and Disaster management\nBiomass and Sustainable Energy\nSustainable Tourism\nSustainable Land Use and Urban development\nWood Science and Wood Based Industries\nEnvironmental Engineering and Green Technology\nGeology\, Soil and Water Resource Management\n\nSubmission procedure\nAbstracts are now accepted for formal presentations and posters via http://fesympo.sjp.ac.lk \nPlease visit the symposium website for guidelines on preparation and submission of abstracts. All correspondence will be made by the principal author by email. \n  \nReview and Selection process\nAbstracts will be reviewed by panel of experts\, and those selected will be published in symposium proceedings. Authors of the selected abstracts have the option to submit their full papers to the Journal of Tropical Forest and Environment. The journal has double- bind peer- review process \nRead the latest online issue:     journals.sjp.ac.lk/jtfe \nContact Details\nSymposium Chair\nProf. Upul Subasinghe \nSymposium Coordinators\nDr. Dr. G.G.T. Chandrathilake\n0714463963 \nDr. Chaamila Pathirana\n0777871518 \nSymposium organizing Committee\nDepartment of Forestry & Environmental Science\nUniversity of Sri Jayewardenepura\, Nugegoda\,\nSri Lanka\nTel: +94 11 280 4685\nFax: +94 11 280 2914\nEmail: fesympo@sjp.ac.lk\nhttp://fesympo.sjp.ac.lk \n 
URL:https://www.sjp.ac.lk/event/twenty-sixth-international-forestry-and-environmental-science-symposium-2021/
LOCATION:Department of Forestry\, University of Sri Jayewardenepura\, University of Sri Jayewardenepura\, Gangodawila\, Nugegoda\, Sri Lanka
END:VEVENT
END:VCALENDAR