BEGIN:VCALENDAR
VERSION:2.0
PRODID:-//USJ - University of Sri Jayewardenepura, Sri Lanka - ECPv6.15.14//NONSGML v1.0//EN
CALSCALE:GREGORIAN
METHOD:PUBLISH
X-WR-CALNAME:USJ - University of Sri Jayewardenepura, Sri Lanka
X-ORIGINAL-URL:https://www.sjp.ac.lk
X-WR-CALDESC:Events for USJ - University of Sri Jayewardenepura, Sri Lanka
REFRESH-INTERVAL;VALUE=DURATION:PT1H
X-Robots-Tag:noindex
X-PUBLISHED-TTL:PT1H
BEGIN:VTIMEZONE
TZID:America/Caracas
BEGIN:STANDARD
TZOFFSETFROM:-0400
TZOFFSETTO:-0400
TZNAME:-04
DTSTART:20230101T000000
END:STANDARD
END:VTIMEZONE
BEGIN:VEVENT
DTSTART;TZID=America/Caracas:20241003T080000
DTEND;TZID=America/Caracas:20241004T170000
DTSTAMP:20260425T000617
CREATED:20240212T035637Z
LAST-MODIFIED:20240416T095850Z
UID:65819-1727942400-1728061200@www.sjp.ac.lk
SUMMARY:1st International Conference on Criminology and Criminal Justice (ICCCJ) - 2024
DESCRIPTION:
URL:https://www.sjp.ac.lk/event/1st-international-conference-on-criminology-and-criminal-justice-icccj-2024/
LOCATION:University of Sri Jayewardenepura\, Nugegoda\, Gangodawila\, Nuegoda\, Nugegoda\, Western\, 10250\, Sri Lanka
END:VEVENT
END:VCALENDAR