BEGIN:VCALENDAR
VERSION:2.0
PRODID:-//USJ - University of Sri Jayewardenepura, Sri Lanka - ECPv6.15.14//NONSGML v1.0//EN
CALSCALE:GREGORIAN
METHOD:PUBLISH
X-ORIGINAL-URL:https://www.sjp.ac.lk
X-WR-CALDESC:Events for USJ - University of Sri Jayewardenepura, Sri Lanka
REFRESH-INTERVAL;VALUE=DURATION:PT1H
X-Robots-Tag:noindex
X-PUBLISHED-TTL:PT1H
BEGIN:VTIMEZONE
TZID:America/Caracas
BEGIN:STANDARD
TZOFFSETFROM:-0400
TZOFFSETTO:-0400
TZNAME:-04
DTSTART:20230101T000000
END:STANDARD
END:VTIMEZONE
BEGIN:VEVENT
DTSTART;TZID=America/Caracas:20240729T080000
DTEND;TZID=America/Caracas:20240729T170000
DTSTAMP:20260419T201601
CREATED:20240728T024459Z
LAST-MODIFIED:20240728T024601Z
UID:67064-1722240000-1722272400@www.sjp.ac.lk
SUMMARY:The Orientation Programme – 2022/2023 Batch of FOT
DESCRIPTION:The Inauguration Ceremony of the Orientation Programme of FOT 2024\non 29th July 2024\nfrom 08.45 am onwards\nat the Ven. Sri Soratha Auditorium \nDay 1\nFriday\, 29th July 2024\nInaugural Session \n08.45 am        Arrival of guests\n08.55 am        Faculty introductory video\n09.00 am        University Anthem and lightning the oil lamp\n09.15 am         Welcome speech by Dean\, FOT Prof. Nilmini Liyanage\n09.45 am         Speech by Student Representative- FOT\n09.55 am         Speech by Vice Chancellor\, USJ Senior Prof. Pathmalal M. Manage\n10.15 am          Entertainment event by FOT students\n10.30 am         Keynote Speech Dr. Nayana Dehigama Chairman\, EPIC\n11.00 am         Speech by Registrar\, USJ\, Mr. A.B. Welivita\n11.15 am          Speech by Proctor\, USJ\, Mr. L.H.T. De S. Wickramasooriya\n11.30 am         Vote of Thanks by Deputy Registrar\, FOT Mr. Uditha Kurugala\n11.40 am         National Anthem End of the Inaugural Session\nLUNCH BREAK\n1.00 pm          Entertainment event Conducted by Prof. Saman Panapitiya and the team\, University of Visual                                   and Performing Arts\n2.30 pm          Exploring Faculty\, Library and Surrounding Area\n4.00 pm          End of the Day-01 Programme \n 
URL:https://www.sjp.ac.lk/event/the-orientation-programme-2022-2023-batch-of-fot/
LOCATION:Sri Soratha Auditorium\, Faculty of Technology\, University of Sri Jayewardenepura\, Pitipana\, Homagama.
ORGANIZER;CN="Faculty of Technology":MAILTO:etechno@sjp.ac.lk
END:VEVENT
END:VCALENDAR