BEGIN:VCALENDAR
VERSION:2.0
PRODID:-//USJ - University of Sri Jayewardenepura, Sri Lanka - ECPv6.15.14//NONSGML v1.0//EN
CALSCALE:GREGORIAN
METHOD:PUBLISH
X-ORIGINAL-URL:https://www.sjp.ac.lk
X-WR-CALDESC:Events for USJ - University of Sri Jayewardenepura, Sri Lanka
REFRESH-INTERVAL;VALUE=DURATION:PT1H
X-Robots-Tag:noindex
X-PUBLISHED-TTL:PT1H
BEGIN:VTIMEZONE
TZID:America/Caracas
BEGIN:STANDARD
TZOFFSETFROM:-0400
TZOFFSETTO:-0400
TZNAME:-04
DTSTART:20240101T000000
END:STANDARD
END:VTIMEZONE
BEGIN:VEVENT
DTSTART;TZID=America/Caracas:20250217T080000
DTEND;TZID=America/Caracas:20250221T180000
DTSTAMP:20260420T021621
CREATED:20250213T064409Z
LAST-MODIFIED:20250218T083205Z
UID:68609-1739779200-1740160800@www.sjp.ac.lk
SUMMARY:21st International Conference on Business Management – 2025
DESCRIPTION:The Fourth Industrial Revolution is driving profound digital transformation across industries and services worldwide\, fostering agile and collaborative enterprises tailored for a digitally inclined society. Central to this transformative era are disruptive technologies like AI\, machine learning\, and blockchain\, which are not only reshaping societal structures but also revolutionizing work practices. Businesses embracing these innovations consistently outperform traditional market norms\, yet they also face challenges such as job displacement and cyber system vulnerabilities. \nOrganized by the Faculty of Management Studies and Commerce (FMSC) at the University of Sri Jayewardenepura (USJ)\, the International Conference on Business Management (ICBM) stands as a pivotal event in our academic calendar. Since its inception in 1999\, ICBM has evolved into a sought-after forum where academia and industry converge to explore pressing issues. In 2025\, we proudly host the 21st consecutive conference under the theme: \n“Tech Titans and Turmoil: Leveraging Disruptive Technologies for Sustainable Business Transformation.” \nICBM 2025 underscores our commitment to scholarly exploration in management-related disciplines\, emphasizing the dual nature of disruptive technologies. We aim to harness these technologies for sustainable development while promoting ethical leadership and responsible business practices. Through interdisciplinary discussions\, the conference seeks to illuminate how businesses can contribute to achieving the United Nations Sustainable Development Goals through technology-driven solutions. \nJoin us at ICBM 2025 for keynote speeches\, plenary sessions\, oral presentations\, and pre-conference workshops. Together\, let’s navigate the challenges and opportunities of the digital age\, paving the way for a sustainable and inclusive future. \nFor More Details: https://icbm.sjp.ac.lk/icbm-2025-conference/
URL:https://www.sjp.ac.lk/event/21st-international-conference-on-business-management-2025/
LOCATION:University of Sri Jayewardenepura\, Nugegoda\, Gangodawila\, Nuegoda\, Nugegoda\, Western\, 10250\, Sri Lanka
ORGANIZER;CN="Faculty of Management Studies and Commerce":MAILTO:deanfmsc@sjp.ac.lk
END:VEVENT
BEGIN:VEVENT
DTSTART;TZID=America/Caracas:20250217T160000
DTEND;TZID=America/Caracas:20250217T183000
DTSTAMP:20260420T021621
CREATED:20250218T090432Z
LAST-MODIFIED:20250218T091341Z
UID:68634-1739808000-1739817000@www.sjp.ac.lk
SUMMARY:ICBM 2025 : Pre-Conference Workshops
DESCRIPTION:Enhance your knowledge and expertise through a series of pre-conference workshops tailored to academics\, scholars\, and corporate professionals. These workshops are designed to delve into significant areas aligned with the conference theme\, offering valuable insights and practical skills for participants. \nCovering contemporary research topics with a specific focus on the Sri Lankan context\, these workshops aim to inspire and empower researchers from diverse research traditions and paradigms. Whether you’re looking to deepen your understanding of disruptive technologies\, explore economic recovery strategies\, or engage in innovative business practices\, our workshops provide a platform for immersive learning and professional development.
URL:https://www.sjp.ac.lk/event/icbm-2025-pre-conference-workshops/
LOCATION:Port City Colombo
ORGANIZER;CN="Faculty of Management Studies and Commerce":MAILTO:deanfmsc@sjp.ac.lk
END:VEVENT
BEGIN:VEVENT
DTSTART;TZID=America/Caracas:20250218T080000
DTEND;TZID=America/Caracas:20250218T170000
DTSTAMP:20260420T021621
CREATED:20250218T084452Z
LAST-MODIFIED:20250218T084605Z
UID:68616-1739865600-1739898000@www.sjp.ac.lk
SUMMARY:ICBM 2025 : Undergraduate Research Day
DESCRIPTION:The Undergraduate Research Day stand as a pivotal event within ICBM 2025\, offering a platform for outstanding undergraduate presentations to share their research insights with a diverse audience. This day celebrates the achievements of students who have embarked on rigorous research journeys\, showcasing their contributions to sustainable development on a global scale. \nParticipants at the Undergraduate Research Day include students\, industry leaders\, and community members\, creating an enriching environment for discussions on cutting-edge research. This event not only highlights the academic excellence of our undergraduate scholars but also fosters dialogue on pressing issues and innovative solutions that shape our future.
URL:https://www.sjp.ac.lk/event/icbm-2025-undergraduate-research-day/
LOCATION:University of Sri Jayewardenepura\, Nugegoda\, Gangodawila\, Nuegoda\, Nugegoda\, Western\, 10250\, Sri Lanka
ORGANIZER;CN="Faculty of Management Studies and Commerce":MAILTO:deanfmsc@sjp.ac.lk
END:VEVENT
BEGIN:VEVENT
DTSTART;TZID=America/Caracas:20250219T080000
DTEND;TZID=America/Caracas:20250219T170000
DTSTAMP:20260420T021621
CREATED:20250218T084837Z
LAST-MODIFIED:20250218T084930Z
UID:68620-1739952000-1739984400@www.sjp.ac.lk
SUMMARY:ICBM 2025 : Main Conference
DESCRIPTION:The Main Conference of ICBM 2025 serves as a beacon for high-quality research\, bringing together local and international scholars to delve into the theme of sustainable business transformation through disruptive technologies. Hosted at the prestigious University of Sri Jayewardenepura\, this year’s conference features ten comprehensive tracks\, each dedicated to exploring innovative approaches and breakthroughs in management disciplines. To ensure the quality of the papers\, the manuscripts will be going through a doble-blind review process.  Join us as we navigate the dynamic landscape of business management\, leveraging disruptive technologies to shape a sustainable future. \n\n\nTerms & Conditions for Publication Opportunities in SLJSS \nThe best conference manuscripts selected from ICBM 2025 will have the opportunity to be published in a special section of a regular issue of the Sri Lanka Journal of Social Sciences (SLJSS). These manuscripts\, recommended by ICBM 2025 for SLJSS\, must be converted into journal papers following the SLJSS guidelines. Afterwards\, the submitted papers will undergo the SLJSS review process\, and those accepted will be published in the journal. \n\n\nConference Tracks\n\n\n\n\n\nDoing Business in Platform Society\nNew Ways of Working and Managing People in the World of Work\nData-driven Digital Transformation of Accounting and Finance\nLeveraging Emerging Technologies for Information Systems Management and Operational Excellence\nGovernance and Public Management in the Global Political Economy\nRegulatory and Ethical Implications of Socio-technological Transformations\nMarketing Strategies in Platform Society\nChanging Landscape of Higher Education and Educational Management\nManaging Global Economic Challenges\nReal Estate Management for a Sustainable Future\nNew Methodological Approaches in Management Research\nMulti-Disciplinary Research
URL:https://www.sjp.ac.lk/event/icbm-2025-main-conference/
LOCATION:University of Sri Jayewardenepura\, Nugegoda\, Gangodawila\, Nuegoda\, Nugegoda\, Western\, 10250\, Sri Lanka
ORGANIZER;CN="Faculty of Management Studies and Commerce":MAILTO:deanfmsc@sjp.ac.lk
END:VEVENT
BEGIN:VEVENT
DTSTART;TZID=America/Caracas:20250220T090000
DTEND;TZID=America/Caracas:20250220T170000
DTSTAMP:20260420T021621
CREATED:20250218T085142Z
LAST-MODIFIED:20250218T085142Z
UID:68623-1740042000-1740070800@www.sjp.ac.lk
SUMMARY:ICBM 2025 : PIM Annual Research Conference 2025
DESCRIPTION:
URL:https://www.sjp.ac.lk/event/icbm-2025-pim-annual-research-conference-2025/
LOCATION:University of Sri Jayewardenepura\, Nugegoda\, Gangodawila\, Nuegoda\, Nugegoda\, Western\, 10250\, Sri Lanka
ORGANIZER;CN="Faculty of Management Studies and Commerce":MAILTO:deanfmsc@sjp.ac.lk
END:VEVENT
BEGIN:VEVENT
DTSTART;TZID=America/Caracas:20250221T080000
DTEND;TZID=America/Caracas:20250221T170000
DTSTAMP:20260420T021621
CREATED:20250218T085454Z
LAST-MODIFIED:20250218T085536Z
UID:68626-1740124800-1740157200@www.sjp.ac.lk
SUMMARY:ICBM 2025 : HDR Pitching Competition
DESCRIPTION:The National Pitching Research Competition (NPRC) is Sri Lanka’s version of the InSPiR2eS Global Research Pitching Competition (IGPRC). The NPRC 2025 will be integrated into the HDR Pitching Competition of the International Conference on Business Management (ICBM) 2025\, in collaboration with the Faculty of Management Studies and Commerce at the University of Sri Jayewardenepura\, along with the InSPiR2eS international research network. \nWho Can Participate\nAll Higher Degree by Research (HDR) students (PhD\, DBA\, MPhil) from Sri Lanka who are pursuing degrees in management and related social sciences are welcome to showcase their research ideas at the HDR Pitching Competition. \nExclusive Benefits for Participants\n\nGain insights from a distinguished international review panel.\nEarn an internationally recognized certificate.\nThe national winner:\n\nWins a cash prize of Rs. 50\,000.\nRepresent Sri Lanka on a global stage\nCompetes for a chance to win a prize of $11\,000.
URL:https://www.sjp.ac.lk/event/icbm-2025-hdr-pitching-competition/
LOCATION:University of Sri Jayewardenepura\, Nugegoda\, Gangodawila\, Nuegoda\, Nugegoda\, Western\, 10250\, Sri Lanka
ORGANIZER;CN="Faculty of Management Studies and Commerce":MAILTO:deanfmsc@sjp.ac.lk
END:VEVENT
BEGIN:VEVENT
DTSTART;TZID=America/Caracas:20250221T173000
DTEND;TZID=America/Caracas:20250221T203000
DTSTAMP:20260420T021621
CREATED:20250218T090139Z
LAST-MODIFIED:20250218T091251Z
UID:68630-1740159000-1740169800@www.sjp.ac.lk
SUMMARY:ICBM 2025 : Business Forum and Case Study Book Publication
DESCRIPTION:The Business Forum is an essential component of ICBM\, designed to facilitate knowledge exchange and foster relationships between academia and industry practitioners. This year\, the forum will feature cross-sector panel discussions focusing on three key themes: the Port City Colombo Economic Model\, Sri Lanka’s economic recovery strategies\, and the adoption of disruptive technologies by Sri Lankan businesses. \nIn collaboration with the International Chamber of Commerce of Sri Lanka\, ICBM 2025 aims to enhance the forum’s industrial relevance for both local and international audiences. Distinguished panelists\, comprising industry leaders from various sectors\, will lead discussions aligned with the conference theme\, offering invaluable insights and perspectives. \nWe anticipate the participation of approximately 250 industry leaders\, professionals from the private and public sectors\, and academics who will enrich the forum’s discussions as engaged audience members. Following the panel sessions\, a networking session and cocktail reception will provide a relaxed environment for attendees to forge meaningful connections and reflect on the insights gained throughout the conference.
URL:https://www.sjp.ac.lk/event/icbm-2025-business-forum-and-case-study-book-publication/
LOCATION:Cinnamon Lakeside Colombo
ORGANIZER;CN="Faculty of Management Studies and Commerce":MAILTO:deanfmsc@sjp.ac.lk
END:VEVENT
END:VCALENDAR