BEGIN:VCALENDAR
VERSION:2.0
PRODID:-//USJ - University of Sri Jayewardenepura, Sri Lanka - ECPv6.15.14//NONSGML v1.0//EN
CALSCALE:GREGORIAN
METHOD:PUBLISH
X-ORIGINAL-URL:https://www.sjp.ac.lk
X-WR-CALDESC:Events for USJ - University of Sri Jayewardenepura, Sri Lanka
REFRESH-INTERVAL;VALUE=DURATION:PT1H
X-Robots-Tag:noindex
X-PUBLISHED-TTL:PT1H
BEGIN:VTIMEZONE
TZID:America/Caracas
BEGIN:STANDARD
TZOFFSETFROM:-0400
TZOFFSETTO:-0400
TZNAME:-04
DTSTART:20220101T000000
END:STANDARD
END:VTIMEZONE
BEGIN:VEVENT
DTSTART;TZID=America/Caracas:20230213T030000
DTEND;TZID=America/Caracas:20230214T170000
DTSTAMP:20260420T002113
CREATED:20230213T072547Z
LAST-MODIFIED:20230213T072651Z
UID:60740-1676257200-1676394000@www.sjp.ac.lk
SUMMARY:Valentine’s Day gifts at USJ startup hub market place
DESCRIPTION:Now\, you can contact our entrepreneurs through the website of Startup Hub of USJ to order products selling by them.\nhttp://market.sjp.ac.lk/ \nHurry up!! Place your order now!!\n-Reasonable Prices\n-Discounts\n-High Quality
URL:https://www.sjp.ac.lk/event/valentines-day-gifts-at-usj-startup-hub-market-place/
LOCATION:Online
END:VEVENT
END:VCALENDAR