BEGIN:VCALENDAR
VERSION:2.0
PRODID:-//USJ - University of Sri Jayewardenepura, Sri Lanka - ECPv6.15.14//NONSGML v1.0//EN
CALSCALE:GREGORIAN
METHOD:PUBLISH
X-WR-CALNAME:USJ - University of Sri Jayewardenepura, Sri Lanka
X-ORIGINAL-URL:https://www.sjp.ac.lk
X-WR-CALDESC:Events for USJ - University of Sri Jayewardenepura, Sri Lanka
REFRESH-INTERVAL;VALUE=DURATION:PT1H
X-Robots-Tag:noindex
X-PUBLISHED-TTL:PT1H
BEGIN:VTIMEZONE
TZID:America/Caracas
BEGIN:STANDARD
TZOFFSETFROM:-0400
TZOFFSETTO:-0400
TZNAME:-04
DTSTART:20240101T000000
END:STANDARD
END:VTIMEZONE
BEGIN:VEVENT
DTSTART;TZID=America/Caracas:20250205T080000
DTEND;TZID=America/Caracas:20250208T170000
DTSTAMP:20260425T223741
CREATED:20250109T044651Z
LAST-MODIFIED:20250109T044651Z
UID:68346-1738742400-1739034000@www.sjp.ac.lk
SUMMARY:Orientation Program of Faculty of Management Studies and Commerce for the Academic Year 2023/2024
DESCRIPTION:
URL:https://www.sjp.ac.lk/event/orientation-program-of-faculty-of-management-studies-and-commerce-for-the-academic-year-2023-2024/
LOCATION:Bandaranaike Hall\, University of Sri Jayawardenepura\,\, Nugegoda\, Sri Lanka
ORGANIZER;CN="Faculty of Management Studies and Commerce":MAILTO:deanfmsc@sjp.ac.lk
END:VEVENT
END:VCALENDAR