BEGIN:VCALENDAR
VERSION:2.0
PRODID:-//USJ - University of Sri Jayewardenepura, Sri Lanka - ECPv6.15.14//NONSGML v1.0//EN
CALSCALE:GREGORIAN
METHOD:PUBLISH
X-WR-CALNAME:USJ - University of Sri Jayewardenepura, Sri Lanka
X-ORIGINAL-URL:https://www.sjp.ac.lk
X-WR-CALDESC:Events for USJ - University of Sri Jayewardenepura, Sri Lanka
REFRESH-INTERVAL;VALUE=DURATION:PT1H
X-Robots-Tag:noindex
X-PUBLISHED-TTL:PT1H
BEGIN:VTIMEZONE
TZID:America/Caracas
BEGIN:STANDARD
TZOFFSETFROM:-0400
TZOFFSETTO:-0400
TZNAME:-04
DTSTART:20250101T000000
END:STANDARD
END:VTIMEZONE
BEGIN:VEVENT
DTSTART;TZID=America/Caracas:20260108T150000
DTEND;TZID=America/Caracas:20260108T160000
DTSTAMP:20260423T191311
CREATED:20260105T143920Z
LAST-MODIFIED:20260105T144115Z
UID:70554-1767884400-1767888000@www.sjp.ac.lk
SUMMARY:A Guest Lecture on "Can Polymers Power a Greener Tomorrow?”
DESCRIPTION:The Department of Polymer Science is pleased to host a distinguished guest lecture titled “Can Polymers Power a Greener Tomorrow?” delivered by Dr. Jayantha Amarasekara\, a globally recognized expert in the chemical and materials industries and an Honorary Fellow of the Department. Dr. Amarasekara is visiting from the United States to share his perspectives on sustainable innovation and his extensive experience within the international chemical industry. \nDr. Amarasekara’s visit offers a unique opportunity for our academic community to engage with an industry leader who has successfully bridged fundamental research and large-scale industrial application. He currently serves as a Senior Consultant to the chemical industry in the USA\, bringing over three decades of leadership experience from some of the world’s most influential corporations\, including SABIC\, General Electric (GE)\, and BASF. His career has been marked by leading technology ventures\, driving sustainability initiatives\, and managing global innovation teams across the USA\, China\, and Saudi Arabia. \nWith deep expertise in thermoplastics\, elastomers\, and high-performance composites\, Dr. Amarasekara has been at the forefront of the ongoing transformation of polymer science in response to global sustainability challenges. His lecture will provide valuable insights into advanced recycling technologies\, circular economy strategies\, and the development of next-generation sustainable materials that enable a truly circular lifecycle for plastics. \nParticipants will also gain first-hand industry perspectives on how global organizations such as SABIC and GE successfully integrate academic excellence with commercially viable and environmentally responsible solutions\, demonstrating how polymers can play a pivotal role in powering a greener tomorrow. \nEvent Details \nWe invite all students\, faculty members\, and industry enthusiasts to step into the world of sustainable innovation and be inspired by a pioneer who is actively shaping the future of materials. \n\nGuest Speaker: Dr. Jayantha Amarasekara (Senior Consultant\, USA)\nVenue: C2 Lecture Hall\nDate: 8th of January 2026\nTime: 3:00 PM to 4:00 PM
URL:https://www.sjp.ac.lk/event/a-guest-lecture-on-can-polymers-power-a-greener-tomorrow/
LOCATION:C2 Lecture theatre
END:VEVENT
END:VCALENDAR